BEGIN:VCALENDAR
VERSION:2.0
PRODID:-//Lazy B&#039;s Ranch - ECPv6.13.2.1//NONSGML v1.0//EN
CALSCALE:GREGORIAN
METHOD:PUBLISH
X-WR-CALNAME:Lazy B&#039;s Ranch
X-ORIGINAL-URL:https://www.lazybsranch.org
X-WR-CALDESC:Events for Lazy B&#039;s Ranch
REFRESH-INTERVAL;VALUE=DURATION:PT1H
X-Robots-Tag:noindex
X-PUBLISHED-TTL:PT1H
BEGIN:VTIMEZONE
TZID:UTC
BEGIN:STANDARD
TZOFFSETFROM:+0000
TZOFFSETTO:+0000
TZNAME:UTC
DTSTART:20160101T000000
END:STANDARD
END:VTIMEZONE
BEGIN:VEVENT
DTSTART;TZID=UTC:20180915T170000
DTEND;TZID=UTC:20180915T190000
DTSTAMP:20260423T222005
CREATED:20180802T225922Z
LAST-MODIFIED:20180802T225922Z
UID:2045-1537030800-1537038000@www.lazybsranch.org
SUMMARY:10th Annual Silent Auction & Charity Dinner
DESCRIPTION:
URL:https://www.lazybsranch.org/event/10th-annual-silent-auction-charity-dinner/
LOCATION:New Jerusalem Christian Fellowship Church\, 14977 Harper Rd\, Cement City\, MI\, 49233\, United States
CATEGORIES:All Ages,Food and Entertainment,Fundraiser
END:VEVENT
BEGIN:VEVENT
DTSTART;TZID=UTC:20161109T160000
DTEND;TZID=UTC:20161109T210000
DTSTAMP:20260423T222005
CREATED:20160404T011311Z
LAST-MODIFIED:20160404T011311Z
UID:1278-1478707200-1478725200@www.lazybsranch.org
SUMMARY:Fundraiser at In Good Company
DESCRIPTION:We will be holding a fundraiser at In Good Company on November 9\, 2016.  Dine in anytime between 4:00-9:00 p.m. and a portion of the profits will benefit programs at Lazy B’s Ranch.
URL:https://www.lazybsranch.org/event/fundraiser-good-company/
LOCATION:In Good Company Restaurant\, 9039 S Meridian Rd\, Clarklake\, MI\, 49234\, United States
CATEGORIES:All Ages,Food and Entertainment,Fundraiser
ATTACH;FMTTYPE=image/jpeg:https://www.lazybsranch.org/wp-content/uploads/2016/04/logo.jpg
END:VEVENT
END:VCALENDAR