BEGIN:VCALENDAR
VERSION:2.0
PRODID:-//Lazy B&#039;s Ranch - ECPv6.13.2.1//NONSGML v1.0//EN
CALSCALE:GREGORIAN
METHOD:PUBLISH
X-WR-CALNAME:Lazy B&#039;s Ranch
X-ORIGINAL-URL:https://www.lazybsranch.org
X-WR-CALDESC:Events for Lazy B&#039;s Ranch
REFRESH-INTERVAL;VALUE=DURATION:PT1H
X-Robots-Tag:noindex
X-PUBLISHED-TTL:PT1H
BEGIN:VTIMEZONE
TZID:America/Halifax
BEGIN:DAYLIGHT
TZOFFSETFROM:-0400
TZOFFSETTO:-0300
TZNAME:ADT
DTSTART:20160313T060000
END:DAYLIGHT
BEGIN:STANDARD
TZOFFSETFROM:-0300
TZOFFSETTO:-0400
TZNAME:AST
DTSTART:20161106T050000
END:STANDARD
BEGIN:DAYLIGHT
TZOFFSETFROM:-0400
TZOFFSETTO:-0300
TZNAME:ADT
DTSTART:20170312T060000
END:DAYLIGHT
BEGIN:STANDARD
TZOFFSETFROM:-0300
TZOFFSETTO:-0400
TZNAME:AST
DTSTART:20171105T050000
END:STANDARD
END:VTIMEZONE
BEGIN:VTIMEZONE
TZID:UTC
BEGIN:STANDARD
TZOFFSETFROM:+0000
TZOFFSETTO:+0000
TZNAME:UTC
DTSTART:20160101T000000
END:STANDARD
END:VTIMEZONE
BEGIN:VTIMEZONE
TZID:America/New_York
BEGIN:DAYLIGHT
TZOFFSETFROM:-0500
TZOFFSETTO:-0400
TZNAME:EDT
DTSTART:20160313T070000
END:DAYLIGHT
BEGIN:STANDARD
TZOFFSETFROM:-0400
TZOFFSETTO:-0500
TZNAME:EST
DTSTART:20161106T060000
END:STANDARD
END:VTIMEZONE
BEGIN:VEVENT
DTSTART;TZID=America/Halifax:20170422T170000
DTEND;TZID=America/Halifax:20170422T190000
DTSTAMP:20260424T081136
CREATED:20170214T202516Z
LAST-MODIFIED:20170214T202516Z
UID:1541-1492880400-1492887600@www.lazybsranch.org
SUMMARY:9th Annual Silent Auction and Dinner
DESCRIPTION:Come join us once again for our Spring Benefit. There will be great food\, great music\, crafts for kids\, and lots of great stuff to buy so you  won’t want to miss this. If you have anything to donate to the auction \, you can drop your items off at the ranch anytime between now and April 16th. Thanks\, and God Bless you all. Can’t wait to see everyone! Bonny
URL:https://www.lazybsranch.org/event/9th-annual-silent-auction-and-dinner/
LOCATION:New Jerusalem Christian Fellowship\, 14977 Harper Rd\, Somerset\, MI\, 49233\, United States
ATTACH;FMTTYPE=image/jpeg:https://www.lazybsranch.org/wp-content/uploads/2017/02/facebook_event_1335252783204782.jpg
END:VEVENT
BEGIN:VEVENT
DTSTART;TZID=UTC:20161109T160000
DTEND;TZID=UTC:20161109T210000
DTSTAMP:20260424T081136
CREATED:20160404T011311Z
LAST-MODIFIED:20160404T011311Z
UID:1278-1478707200-1478725200@www.lazybsranch.org
SUMMARY:Fundraiser at In Good Company
DESCRIPTION:We will be holding a fundraiser at In Good Company on November 9\, 2016.  Dine in anytime between 4:00-9:00 p.m. and a portion of the profits will benefit programs at Lazy B’s Ranch.
URL:https://www.lazybsranch.org/event/fundraiser-good-company/
LOCATION:In Good Company Restaurant\, 9039 S Meridian Rd\, Clarklake\, MI\, 49234\, United States
CATEGORIES:All Ages,Food and Entertainment,Fundraiser
ATTACH;FMTTYPE=image/jpeg:https://www.lazybsranch.org/wp-content/uploads/2016/04/logo.jpg
END:VEVENT
BEGIN:VEVENT
DTSTART;VALUE=DATE:20160820
DTEND;VALUE=DATE:20160821
DTSTAMP:20260424T081136
CREATED:20160603T004938Z
LAST-MODIFIED:20160603T004938Z
UID:1353-1471651200-1471737599@www.lazybsranch.org
SUMMARY:Kids Explosion Day Trip
DESCRIPTION:Organizations can make a reservation to bring a group of youth to the ranch for a few hours of horseback riding. We will adapt to your time schedule and program as possible. A picnic area is available if the youth would like to have lunch while they are here.
URL:https://www.lazybsranch.org/event/kids-explosion-day-trip-2/
LOCATION:Lazy B’s Ranch\, 4990 White Road\, Cement City\, MI\, 49233\, United States
END:VEVENT
BEGIN:VEVENT
DTSTART;TZID=UTC:20160819T110000
DTEND;TZID=UTC:20160819T130000
DTSTAMP:20260424T081136
CREATED:20160811T015708Z
LAST-MODIFIED:20160811T015740Z
UID:1416-1471604400-1471611600@www.lazybsranch.org
SUMMARY:Horseback Riding
DESCRIPTION:Weather permitting\, we have a riding program for those youth who want to learn more about horses and riding. These sessions are open to youth ages 13-17. Please call the ranch for days and times.
URL:https://www.lazybsranch.org/event/horseback-riding-2/
LOCATION:Lazy B’s Ranch\, 4990 White Road\, Cement City\, MI\, 49233\, United States
END:VEVENT
BEGIN:VEVENT
DTSTART;VALUE=DATE:20160806
DTEND;VALUE=DATE:20160807
DTSTAMP:20260424T081136
CREATED:20160603T004751Z
LAST-MODIFIED:20160603T004751Z
UID:1352-1470441600-1470527999@www.lazybsranch.org
SUMMARY:Kids Explosion Day Trip
DESCRIPTION:Organizations can make a reservation to bring a group of youth to the ranch for a few hours of horseback riding. We will adapt to your time schedule and program as possible. A picnic area is available if the youth would like to have lunch while they are here.
URL:https://www.lazybsranch.org/event/kids-explosion-day-trip/
LOCATION:Lazy B’s Ranch\, 4990 White Road\, Cement City\, MI\, 49233\, United States
END:VEVENT
BEGIN:VEVENT
DTSTART;VALUE=DATE:20160716
DTEND;VALUE=DATE:20160717
DTSTAMP:20260424T081136
CREATED:20160603T004539Z
LAST-MODIFIED:20160603T004539Z
UID:1351-1468627200-1468713599@www.lazybsranch.org
SUMMARY:Highfields Day Camp
DESCRIPTION:Organizations can make a reservation to bring a group of youth to the ranch for a few hours of horseback riding. We will adapt to your time schedule and program as possible. A picnic area is available if the youth would like to have lunch while they are here.
URL:https://www.lazybsranch.org/event/highfields-day-camp/
LOCATION:Lazy B’s Ranch\, 4990 White Road\, Cement City\, MI\, 49233\, United States
END:VEVENT
BEGIN:VEVENT
DTSTART;VALUE=DATE:20160618
DTEND;VALUE=DATE:20160619
DTSTAMP:20260424T081136
CREATED:20160603T004354Z
LAST-MODIFIED:20160603T004354Z
UID:1350-1466208000-1466294399@www.lazybsranch.org
SUMMARY:Highfields Day Trip
DESCRIPTION:Organizations can make a reservation to bring a group of youth to the ranch for a few hours of horseback riding. We will adapt to your time schedule and program as possible. A picnic area is available if the youth would like to have lunch while they are here.
URL:https://www.lazybsranch.org/event/highfields-day-trip/
LOCATION:Lazy B’s Ranch\, 4990 White Road\, Cement City\, MI\, 49233\, United States
END:VEVENT
BEGIN:VEVENT
DTSTART;TZID=UTC:20160610T163000
DTEND;TZID=UTC:20160610T190000
DTSTAMP:20260424T081136
CREATED:20160602T232711Z
LAST-MODIFIED:20160602T232711Z
UID:1329-1465576200-1465585200@www.lazybsranch.org
SUMMARY:Equine Assisted Learning Program
DESCRIPTION:The Equine Assisted Learning Program offers youth ages 13-17 a chance to interact with horses on the ground level. While doing fun activities\, they learn about horse behavior as it parallels their own behavior. This is a group setting that helps instill a sense of self worth\, belonging\, acceptance\, and contribution within a social group. Please contact the ranch for more information about this program\, dates and times.
URL:https://www.lazybsranch.org/event/equine-assisted-learning-program/
LOCATION:Lazy B’s Ranch\, 4990 White Road\, Cement City\, MI\, 49233\, United States
ATTACH;FMTTYPE=image/jpeg:https://www.lazybsranch.org/wp-content/uploads/2014/08/lazy-b-herd-program.jpg
END:VEVENT
BEGIN:VEVENT
DTSTART;TZID=America/Halifax:20160607T160000
DTEND;TZID=America/Halifax:20160607T200000
DTSTAMP:20260424T081136
CREATED:20160603T152507Z
LAST-MODIFIED:20160603T152507Z
UID:1371-1465315200-1465329600@www.lazybsranch.org
SUMMARY:Lazy B's Ranch Fund Raiser
DESCRIPTION:Support Lazy B’s Ranch by dining in at Culver’s Restaurant in Jackson and have a great dinner too!   Thanks for your help!\nSee ya’ll there on Tuesday June 7th between the hours of 4-8 p.m.
URL:https://www.lazybsranch.org/event/lazy-bs-ranch-fund-raiser/
LOCATION:Culver’s\, 3471 ONeil Dr\, Jackson\, MI\, 49202\, United States
ATTACH;FMTTYPE=image/jpeg:https://www.lazybsranch.org/wp-content/uploads/2016/06/facebook_event_224319894627258.jpg
END:VEVENT
BEGIN:VEVENT
DTSTART;TZID=UTC:20160607T160000
DTEND;TZID=UTC:20160607T200000
DTSTAMP:20260424T081136
CREATED:20160603T003606Z
LAST-MODIFIED:20160603T140212Z
UID:1346-1465315200-1465329600@www.lazybsranch.org
SUMMARY:Lazy B's Fundraiser at Culver's
DESCRIPTION:We will be holding a fundraiser at Culver’s on June 7\, 2016.  Dine any time between 4:00-8:00 p.m. and a portion of the profits will benefit programs at Lazy B’s Ranch.
URL:https://www.lazybsranch.org/event/lazy-bs-fundraiser-culvers/
ATTACH;FMTTYPE=image/jpeg:https://www.lazybsranch.org/wp-content/uploads/2016/06/Culvers.jpg
END:VEVENT
BEGIN:VEVENT
DTSTART;TZID=UTC:20160605T133000
DTEND;TZID=UTC:20160605T153000
DTSTAMP:20260424T081137
CREATED:20160603T001346Z
LAST-MODIFIED:20160603T001346Z
UID:1344-1465133400-1465140600@www.lazybsranch.org
SUMMARY:Horseback Riding
DESCRIPTION:Weather permitting\, we have a riding program for those youth who want to learn more about horses and riding. These sessions are open to youth ages 13-17. Please call the ranch for days and times.
URL:https://www.lazybsranch.org/event/horseback-riding/
LOCATION:Lazy B’s Ranch\, 4990 White Road\, Cement City\, MI\, 49233\, United States
END:VEVENT
BEGIN:VEVENT
DTSTART;VALUE=DATE:20160604
DTEND;VALUE=DATE:20160605
DTSTAMP:20260424T081137
CREATED:20160603T004216Z
LAST-MODIFIED:20160603T004216Z
UID:1349-1464998400-1465084799@www.lazybsranch.org
SUMMARY:Highfields Day Trip
DESCRIPTION:Organizations can make a reservation to bring a group of youth to the ranch for a few hours of horseback riding. We will adapt to your time schedule and program as possible. A picnic area is available if the youth would like to have lunch while they are here.
URL:https://www.lazybsranch.org/event/day-trip/
LOCATION:Lazy B’s Ranch\, 4990 White Road\, Cement City\, MI\, 49233\, United States
END:VEVENT
BEGIN:VEVENT
DTSTART;TZID=UTC:20160507T133000
DTEND;TZID=UTC:20160507T153000
DTSTAMP:20260424T081137
CREATED:20160424T004836Z
LAST-MODIFIED:20160424T005253Z
UID:1291-1462627800-1462635000@www.lazybsranch.org
SUMMARY:Pizza and Paperwork!
DESCRIPTION:Attention Lazy B’s Ranch Volunteers: It is that time again to update our files and paperwork.  Join us at the ranch May 7th from 1:30-3:30 pm.  Please call and let me know you are coming.  517-592-4252
URL:https://www.lazybsranch.org/event/pizza-and-paperwork/
LOCATION:Lazy B’s Ranch\, 4990 White Road\, Cement City\, MI\, 49233\, United States
END:VEVENT
BEGIN:VEVENT
DTSTART;TZID=UTC:20160422T160000
DTEND;TZID=UTC:20160422T190000
DTSTAMP:20260424T081137
CREATED:20160401T012238Z
LAST-MODIFIED:20160401T013252Z
UID:1273-1461340800-1461351600@www.lazybsranch.org
SUMMARY:College Internship Informational Meeting
DESCRIPTION:Lazy B’s Ranch is looking for college students studying Psychology\, Sociology\, Social Work\, Criminal Justice\, Education\, Youth  Ministry and related fields to intern and/or volunteer in assisting with experiential learning programs to teach behavior modification to at-risk youth.  Join us April 22nd from 4-7 pm for an informational meeting and chance to shadow our program.
URL:https://www.lazybsranch.org/event/college-internship-informational-meeting/
LOCATION:Lazy B’s Ranch\, 4990 White Road\, Cement City\, MI\, 49233\, United States
ATTACH;FMTTYPE=image/jpeg:https://www.lazybsranch.org/wp-content/uploads/2016/04/flyer-small.jpg
END:VEVENT
BEGIN:VEVENT
DTSTART;TZID=America/Halifax:20160416T170000
DTEND;TZID=America/Halifax:20160416T190000
DTSTAMP:20260424T081137
CREATED:20160301T211308Z
LAST-MODIFIED:20160321T001219Z
UID:1243-1460826000-1460833200@www.lazybsranch.org
SUMMARY:8th Annual Charity Auction and Dinner
DESCRIPTION:Come join us once again for our Spring Benefit. There will be great food\, great music\, crafts for kids\, and lots of great stuff to buy. Some of our kids will be sharing what Lazy B’s Ranch means to them. So you won’t want to miss this. Also\, if you have anything to donate to the auction \, you can drop your items off at the ranch anytime between now and April 13th. Thanks\, and God Bless you all. Can’t wait to see everyone! Bonny
URL:https://www.lazybsranch.org/event/8th-annual-charity-auction-and-dinner/
LOCATION:New Jerusalem Christian Fellowship\, 14977 Harper Rd\, Somerset\, MI\, 49233\, United States
ATTACH;FMTTYPE=image/jpeg:https://www.lazybsranch.org/wp-content/uploads/2016/03/facebook_event_1102207153200536.jpg
END:VEVENT
BEGIN:VEVENT
DTSTART;TZID=UTC:20160313T130000
DTEND;TZID=UTC:20160313T160000
DTSTAMP:20260424T081137
CREATED:20160206T222858Z
LAST-MODIFIED:20160217T061558Z
UID:1189-1457874000-1457884800@www.lazybsranch.org
SUMMARY:Open House at Lazy B's Ranch
DESCRIPTION:Attention Albion College and Spring Arbor University students.  Are you looking for an internship opportunity? Come to our open house on March 13th and see what’s happening at Lazy B’s Ranch in 2016 and how you can help.  We are looking for volunteers and interns for our Equine Assisted Learning programs.  Fields of Study include: Social Work\, Education\, Psychology\, Criminal Justice\, Equine Studies\, and Youth Ministry.  If you have questions\, call (517) 748-1639.
URL:https://www.lazybsranch.org/event/open-house-at-lazy-bs-ranch/
LOCATION:Lazy B’s Ranch\, 4990 White Road\, Cement City\, MI\, 49233\, United States
ATTACH;FMTTYPE=image/jpeg:https://www.lazybsranch.org/wp-content/uploads/2016/02/Lazy-B-open-house.jpg
END:VEVENT
BEGIN:VEVENT
DTSTART;TZID=America/New_York:20160221T130000
DTEND;TZID=America/New_York:20160221T160000
DTSTAMP:20260424T081137
CREATED:20160221T231328Z
LAST-MODIFIED:20160221T231328Z
UID:1238-1456059600-1456070400@www.lazybsranch.org
SUMMARY:Scotch Doubles Bowling Fundraiser
DESCRIPTION:Lazy B’s Ranch will be hosting a Scotch Doubles Bowling Fundraiser at Airport Lanes on Sunday February 21\, 2016 from 12:30 PM to 4:00 PM. This is a  FAMILY FRIENDLY Event. The cost is $10 per person.  Children 8 years and younger are Free. Scotch Doubles consists of a Team of 2 individuals working together to knock the pins down. If you do not have a team mate\, we will match you up with a Team Mate. The $10 includes 3 games of Scotch Doubles\, Door Prizes\, Prizes for Mystery Game #1 and Game #2\, and each participant will leave with a little goody bag. In order to plan for the Teams\, we do ask that individuals pre-register.  To register for this event\, please e-mail or call Diane Cranston at dicranston@comcast.net or 517-945-3863.
URL:https://www.lazybsranch.org/event/scotch-doubles-bowling-fundraiser-9/
END:VEVENT
END:VCALENDAR