BEGIN:VCALENDAR
VERSION:2.0
PRODID:-//Lazy B&#039;s Ranch - ECPv6.13.2.1//NONSGML v1.0//EN
CALSCALE:GREGORIAN
METHOD:PUBLISH
X-WR-CALNAME:Lazy B&#039;s Ranch
X-ORIGINAL-URL:https://www.lazybsranch.org
X-WR-CALDESC:Events for Lazy B&#039;s Ranch
REFRESH-INTERVAL;VALUE=DURATION:PT1H
X-Robots-Tag:noindex
X-PUBLISHED-TTL:PT1H
BEGIN:VTIMEZONE
TZID:UTC
BEGIN:STANDARD
TZOFFSETFROM:+0000
TZOFFSETTO:+0000
TZNAME:UTC
DTSTART:20190101T000000
END:STANDARD
END:VTIMEZONE
BEGIN:VEVENT
DTSTART;TZID=UTC:20200310T160000
DTEND;TZID=UTC:20200310T200000
DTSTAMP:20260423T193947
CREATED:20200222T142326Z
LAST-MODIFIED:20200222T142416Z
UID:3470-1583856000-1583870400@www.lazybsranch.org
SUMMARY:Culvers Fundraiser
DESCRIPTION:Come out and support Lazy B’s Ranch with great food and company at Culver’s! meet new firends and spread awareness about what Lazy B’s Ranch does for the community!
URL:https://www.lazybsranch.org/event/culvers-fundraiser-8/
LOCATION:Culver’s\, 3471 ONeil Dr\, Jackson\, MI\, 49202\, United States
END:VEVENT
BEGIN:VEVENT
DTSTART;TZID=UTC:20200221T130000
DTEND;TZID=UTC:20200221T170000
DTSTAMP:20260423T193947
CREATED:20200128T012839Z
LAST-MODIFIED:20200128T012839Z
UID:3397-1582290000-1582304400@www.lazybsranch.org
SUMMARY:Sock Donation
DESCRIPTION:Thanks to everyone who donated socks to our sock drive!  We collected over 700 pairs!! Today we are dropping off the rest of the socks to AWARE and Jackson Interfaith Shelter.
URL:https://www.lazybsranch.org/event/sock-donation-3/
ATTACH;FMTTYPE=image/jpeg:https://www.lazybsranch.org/wp-content/uploads/2019/12/socks-picture.jpg
END:VEVENT
BEGIN:VEVENT
DTSTART;TZID=UTC:20200215T110000
DTEND;TZID=UTC:20200215T133000
DTSTAMP:20260423T193947
CREATED:20200222T141108Z
LAST-MODIFIED:20200222T141108Z
UID:3466-1581764400-1581773400@www.lazybsranch.org
SUMMARY:February Board Meeting
DESCRIPTION:This is open to anyone who would like to sit in on the meeting! Contact a board member for location info.
URL:https://www.lazybsranch.org/event/february-board-meeting/
END:VEVENT
BEGIN:VEVENT
DTSTART;TZID=UTC:20200214T133000
DTEND;TZID=UTC:20200214T170000
DTSTAMP:20260423T193947
CREATED:20200128T012704Z
LAST-MODIFIED:20200128T012704Z
UID:3395-1581687000-1581699600@www.lazybsranch.org
SUMMARY:Food Basket Donation
DESCRIPTION:Lazy B’s Ranch will be going out to Mama Tu Tu’s to donate a food basket
URL:https://www.lazybsranch.org/event/food-basket-donation/
END:VEVENT
BEGIN:VEVENT
DTSTART;TZID=UTC:20200128T160000
DTEND;TZID=UTC:20200128T200000
DTSTAMP:20260423T193947
CREATED:20200128T012527Z
LAST-MODIFIED:20200128T012605Z
UID:3392-1580227200-1580241600@www.lazybsranch.org
SUMMARY:Culver's
DESCRIPTION:Come out and support Lazy B’s Ranch with great food and company at Culver’s!
URL:https://www.lazybsranch.org/event/culvers/
LOCATION:Culver’s\, 3471 O'Neill Dr.\, JAckson\, MI\, 49202
ATTACH;FMTTYPE=image/jpeg:https://www.lazybsranch.org/wp-content/uploads/2019/06/culvers.jpg
END:VEVENT
BEGIN:VEVENT
DTSTART;TZID=UTC:20200121T130000
DTEND;TZID=UTC:20200121T170000
DTSTAMP:20260423T193947
CREATED:20200121T012103Z
LAST-MODIFIED:20200128T013416Z
UID:3390-1579611600-1579626000@www.lazybsranch.org
SUMMARY:Sock Donation
DESCRIPTION:Thanks to everyone who donated socks to our sock drive!  We collected over 700 pairs!! We dropped off some of the socks earlier this month to Vandercook School\, and today we are dropping off more socks to Mama Tu Tu. We will be dropping off more socks later in February\, AWARE\, and Interfaith Shelter.
URL:https://www.lazybsranch.org/event/sock-donation-2/
ATTACH;FMTTYPE=image/jpeg:https://www.lazybsranch.org/wp-content/uploads/2019/12/socks-picture.jpg
END:VEVENT
BEGIN:VEVENT
DTSTART;TZID=UTC:20200119T130000
DTEND;TZID=UTC:20200119T170000
DTSTAMP:20260423T193947
CREATED:20200119T010025Z
LAST-MODIFIED:20200128T013349Z
UID:3388-1579438800-1579453200@www.lazybsranch.org
SUMMARY:Board Meeting
DESCRIPTION:Annual meeting to go over 2019 and goals for 2020. Picked a possible date for Spring Benefit\, looking at locations.
URL:https://www.lazybsranch.org/event/board-meeting-6/
END:VEVENT
BEGIN:VEVENT
DTSTART;TZID=UTC:20200114T080000
DTEND;TZID=UTC:20200114T170000
DTSTAMP:20260423T193947
CREATED:20200114T011609Z
LAST-MODIFIED:20200128T013316Z
UID:3386-1578988800-1579021200@www.lazybsranch.org
SUMMARY:Sock Donation
DESCRIPTION:Thanks to everyone who donated socks to our sock drive!  We collected over 700 pairs!! Today we dropped off some of the socks to Vandercook School. We will be dropping off more socks later in January/February to Mama Tu Tu\, AWARE\, and Interfaith Shelter.
URL:https://www.lazybsranch.org/event/sock-donation/
ATTACH;FMTTYPE=image/jpeg:https://www.lazybsranch.org/wp-content/uploads/2019/12/socks-picture.jpg
END:VEVENT
BEGIN:VEVENT
DTSTART;VALUE=DATE:20191220
DTEND;VALUE=DATE:20191221
DTSTAMP:20260423T193947
CREATED:20191126T004500Z
LAST-MODIFIED:20191126T004500Z
UID:3298-1576800000-1576886399@www.lazybsranch.org
SUMMARY:Sock Donation Pick-Up
DESCRIPTION:We will be collecting the sock donation bins from the various locations throughout town.
URL:https://www.lazybsranch.org/event/sock-donation-pick-up/
END:VEVENT
BEGIN:VEVENT
DTSTART;VALUE=DATE:20191219
DTEND;VALUE=DATE:20191220
DTSTAMP:20260423T193947
CREATED:20191126T005609Z
LAST-MODIFIED:20191126T005625Z
UID:3309-1576713600-1576799999@www.lazybsranch.org
SUMMARY:Sock Donation Pick-Up
DESCRIPTION:We will be collecting the sock donation bins from the various locations throughout town.
URL:https://www.lazybsranch.org/event/sock-donation-pick-up-2/
END:VEVENT
BEGIN:VEVENT
DTSTART;TZID=UTC:20191112T160000
DTEND;TZID=UTC:20191112T200000
DTSTAMP:20260423T193947
CREATED:20191126T002654Z
LAST-MODIFIED:20191126T002654Z
UID:3292-1573574400-1573588800@www.lazybsranch.org
SUMMARY:Culver's Fundraiser
DESCRIPTION:Located at the Jackson location Culver’s on ONeil drive right across from Olive Garden
URL:https://www.lazybsranch.org/event/culvers-fundraiser-7/
END:VEVENT
BEGIN:VEVENT
DTSTART;TZID=UTC:20191109T100000
DTEND;TZID=UTC:20191109T140000
DTSTAMP:20260423T193947
CREATED:20191020T133022Z
LAST-MODIFIED:20191020T133022Z
UID:3211-1573293600-1573308000@www.lazybsranch.org
SUMMARY:November Board Meeting
DESCRIPTION:
URL:https://www.lazybsranch.org/event/november-board-meeting/
END:VEVENT
BEGIN:VEVENT
DTSTART;TZID=UTC:20191102T170000
DTEND;TZID=UTC:20191102T190000
DTSTAMP:20260423T193947
CREATED:20190919T205427Z
LAST-MODIFIED:20190924T010122Z
UID:3156-1572714000-1572721200@www.lazybsranch.org
SUMMARY:Fall Benefit
DESCRIPTION:Come join us for our Fall Benefit and enjoy some good food\, have some laughs and win prizes. Follow our Facebook Page at https://www.facebook.com/lazybsranch.org/ to see more details to come!
URL:https://www.lazybsranch.org/event/fall-benefit/
ATTACH;FMTTYPE=image/jpeg:https://www.lazybsranch.org/wp-content/uploads/2019/09/Copy-of-Wood-Event-Flyer-Template-Made-with-PosterMyWall-5.jpg
END:VEVENT
BEGIN:VEVENT
DTSTART;TZID=UTC:20191015T160000
DTEND;TZID=UTC:20191015T200000
DTSTAMP:20260423T193947
CREATED:20191020T133236Z
LAST-MODIFIED:20191020T133236Z
UID:3213-1571155200-1571169600@www.lazybsranch.org
SUMMARY:Culver's Fundraiser
DESCRIPTION:
URL:https://www.lazybsranch.org/event/culvers-fundraiser-6/
LOCATION:Culver’s\, 3471 ONeil Dr\, Jackson\, MI\, 49202\, United States
CATEGORIES:All Ages
END:VEVENT
BEGIN:VEVENT
DTSTART;TZID=UTC:20191004T190000
DTEND;TZID=UTC:20191004T220000
DTSTAMP:20260423T193947
CREATED:20191020T133953Z
LAST-MODIFIED:20191020T133953Z
UID:3217-1570215600-1570226400@www.lazybsranch.org
SUMMARY:October OPEN Board Meeting
DESCRIPTION:
URL:https://www.lazybsranch.org/event/october-open-board-meeting/
END:VEVENT
BEGIN:VEVENT
DTSTART;TZID=UTC:20190917T160000
DTEND;TZID=UTC:20190917T200000
DTSTAMP:20260423T193947
CREATED:20190919T205548Z
LAST-MODIFIED:20190919T205548Z
UID:3158-1568736000-1568750400@www.lazybsranch.org
SUMMARY:Culver's Fundraiser!
DESCRIPTION:
URL:https://www.lazybsranch.org/event/culvers-fundraiser-5/
LOCATION:Culver’s\, 3471 ONeil Dr\, Jackson\, MI\, 49202\, United States
END:VEVENT
BEGIN:VEVENT
DTSTART;TZID=UTC:20190916T130000
DTEND;TZID=UTC:20190916T150000
DTSTAMP:20260423T193948
CREATED:20190919T205059Z
LAST-MODIFIED:20190919T205059Z
UID:3152-1568638800-1568646000@www.lazybsranch.org
SUMMARY:Arbor North Living Center Trip!
DESCRIPTION:
URL:https://www.lazybsranch.org/event/arbor-north-living-center-trip/
END:VEVENT
BEGIN:VEVENT
DTSTART;TZID=UTC:20190914T130000
DTEND;TZID=UTC:20190914T150000
DTSTAMP:20260423T193948
CREATED:20190919T204704Z
LAST-MODIFIED:20190919T204947Z
UID:3148-1568466000-1568473200@www.lazybsranch.org
SUMMARY:Jackson Medical Care Trip!
DESCRIPTION:
URL:https://www.lazybsranch.org/event/jackson-medical-care-trip/
END:VEVENT
BEGIN:VEVENT
DTSTART;TZID=UTC:20190907T100000
DTEND;TZID=UTC:20190907T120000
DTSTAMP:20260423T193948
CREATED:20190919T205209Z
LAST-MODIFIED:20190919T205209Z
UID:3154-1567850400-1567857600@www.lazybsranch.org
SUMMARY:September OPEN Board Meeting
DESCRIPTION:
URL:https://www.lazybsranch.org/event/september-open-board-meeting/
END:VEVENT
BEGIN:VEVENT
DTSTART;TZID=UTC:20190830T170000
DTEND;TZID=UTC:20190830T200000
DTSTAMP:20260423T193948
CREATED:20190817T173437Z
LAST-MODIFIED:20190817T173437Z
UID:3101-1567184400-1567195200@www.lazybsranch.org
SUMMARY:Believe In Me: Session 3
DESCRIPTION:
URL:https://www.lazybsranch.org/event/believe-in-me-session-3-9/
END:VEVENT
BEGIN:VEVENT
DTSTART;TZID=UTC:20190829T170000
DTEND;TZID=UTC:20190829T200000
DTSTAMP:20260423T193948
CREATED:20190817T173350Z
LAST-MODIFIED:20190817T173350Z
UID:3099-1567098000-1567108800@www.lazybsranch.org
SUMMARY:Believe In Me: Session 3
DESCRIPTION:
URL:https://www.lazybsranch.org/event/believe-in-me-session-3-8/
END:VEVENT
BEGIN:VEVENT
DTSTART;TZID=UTC:20190826T140000
DTEND;TZID=UTC:20190826T160000
DTSTAMP:20260423T193948
CREATED:20190817T172843Z
LAST-MODIFIED:20190817T172843Z
UID:3083-1566828000-1566835200@www.lazybsranch.org
SUMMARY:Stem On The Farm
DESCRIPTION:
URL:https://www.lazybsranch.org/event/stem-on-the-farm-9/
END:VEVENT
BEGIN:VEVENT
DTSTART;TZID=UTC:20190826T140000
DTEND;TZID=UTC:20190826T160000
DTSTAMP:20260423T193948
CREATED:20190817T172804Z
LAST-MODIFIED:20190817T172804Z
UID:3081-1566828000-1566835200@www.lazybsranch.org
SUMMARY:Stem On The Farm
DESCRIPTION:
URL:https://www.lazybsranch.org/event/stem-on-the-farm-8/
END:VEVENT
BEGIN:VEVENT
DTSTART;TZID=UTC:20190826T110000
DTEND;TZID=UTC:20190826T130000
DTSTAMP:20260423T193948
CREATED:20190817T172251Z
LAST-MODIFIED:20190817T172251Z
UID:3073-1566817200-1566824400@www.lazybsranch.org
SUMMARY:Natures Adventure
DESCRIPTION:
URL:https://www.lazybsranch.org/event/natures-adventure-9/
END:VEVENT
BEGIN:VEVENT
DTSTART;TZID=UTC:20190823T170000
DTEND;TZID=UTC:20190823T200000
DTSTAMP:20260423T193948
CREATED:20190817T173321Z
LAST-MODIFIED:20190817T173321Z
UID:3097-1566579600-1566590400@www.lazybsranch.org
SUMMARY:Believe In Me: Session 3
DESCRIPTION:
URL:https://www.lazybsranch.org/event/believe-in-me-session-3-7/
END:VEVENT
BEGIN:VEVENT
DTSTART;TZID=UTC:20190822T170000
DTEND;TZID=UTC:20190822T200000
DTSTAMP:20260423T193948
CREATED:20190817T173200Z
LAST-MODIFIED:20190817T173200Z
UID:3093-1566493200-1566504000@www.lazybsranch.org
SUMMARY:Believe In Me: Session 3
DESCRIPTION:
URL:https://www.lazybsranch.org/event/believe-in-me-session-3-5/
END:VEVENT
BEGIN:VEVENT
DTSTART;TZID=UTC:20190822T080000
DTEND;TZID=UTC:20190822T170000
DTSTAMP:20260423T193948
CREATED:20190817T173124Z
LAST-MODIFIED:20190817T173124Z
UID:3091-1566460800-1566493200@www.lazybsranch.org
SUMMARY:Believe In Me: Session 3
DESCRIPTION:
URL:https://www.lazybsranch.org/event/believe-in-me-session-3-4/
END:VEVENT
BEGIN:VEVENT
DTSTART;TZID=UTC:20190820T160000
DTEND;TZID=UTC:20190820T200000
DTSTAMP:20260423T193948
CREATED:20190817T170839Z
LAST-MODIFIED:20190817T170839Z
UID:3061-1566316800-1566331200@www.lazybsranch.org
SUMMARY:Culvers Fundraiser
DESCRIPTION:
URL:https://www.lazybsranch.org/event/culvers-fundraiser-4/
LOCATION:Culver’s Jackson MI
END:VEVENT
BEGIN:VEVENT
DTSTART;TZID=UTC:20190819T140000
DTEND;TZID=UTC:20190819T160000
DTSTAMP:20260423T193948
CREATED:20190817T172719Z
LAST-MODIFIED:20190817T172719Z
UID:3079-1566223200-1566230400@www.lazybsranch.org
SUMMARY:Stem On The Farm
DESCRIPTION:
URL:https://www.lazybsranch.org/event/stem-on-the-farm-7/
END:VEVENT
BEGIN:VEVENT
DTSTART;TZID=UTC:20190819T110000
DTEND;TZID=UTC:20190819T130000
DTSTAMP:20260423T193948
CREATED:20190817T172203Z
LAST-MODIFIED:20190817T172203Z
UID:3071-1566212400-1566219600@www.lazybsranch.org
SUMMARY:Natures Adventure
DESCRIPTION:
URL:https://www.lazybsranch.org/event/natures-adventure-8/
END:VEVENT
END:VCALENDAR