BEGIN:VCALENDAR
VERSION:2.0
PRODID:-//Lazy B&#039;s Ranch - ECPv6.13.2.1//NONSGML v1.0//EN
CALSCALE:GREGORIAN
METHOD:PUBLISH
X-ORIGINAL-URL:https://www.lazybsranch.org
X-WR-CALDESC:Events for Lazy B&#039;s Ranch
REFRESH-INTERVAL;VALUE=DURATION:PT1H
X-Robots-Tag:noindex
X-PUBLISHED-TTL:PT1H
BEGIN:VTIMEZONE
TZID:UTC
BEGIN:STANDARD
TZOFFSETFROM:+0000
TZOFFSETTO:+0000
TZNAME:UTC
DTSTART:20190101T000000
END:STANDARD
END:VTIMEZONE
BEGIN:VEVENT
DTSTART;TZID=UTC:20190816T170000
DTEND;TZID=UTC:20190816T200000
DTSTAMP:20260424T130915
CREATED:20190817T173245Z
LAST-MODIFIED:20190817T173245Z
UID:3095-1565974800-1565985600@www.lazybsranch.org
SUMMARY:Believe In Me: Session 3
DESCRIPTION:
URL:https://www.lazybsranch.org/event/believe-in-me-session-3-6/
END:VEVENT
BEGIN:VEVENT
DTSTART;TZID=UTC:20190815T170000
DTEND;TZID=UTC:20190815T200000
DTSTAMP:20260424T130915
CREATED:20190817T173054Z
LAST-MODIFIED:20190817T173054Z
UID:3089-1565888400-1565899200@www.lazybsranch.org
SUMMARY:Believe In Me: Session 3
DESCRIPTION:
URL:https://www.lazybsranch.org/event/believe-in-me-session-3-3/
END:VEVENT
BEGIN:VEVENT
DTSTART;TZID=UTC:20190813T100000
DTEND;TZID=UTC:20190813T110000
DTSTAMP:20260424T130915
CREATED:20190723T003529Z
LAST-MODIFIED:20190723T003554Z
UID:2993-1565690400-1565694000@www.lazybsranch.org
SUMMARY:Day Trip- Brooklyn Center!
DESCRIPTION:
URL:https://www.lazybsranch.org/event/day-trip-brooklyn-center/
LOCATION:Lazy B’s Ranch\, 4990 White Road\, Cement City\, MI\, 49233\, United States
END:VEVENT
BEGIN:VEVENT
DTSTART;TZID=UTC:20190812T140000
DTEND;TZID=UTC:20190812T160000
DTSTAMP:20260424T130915
CREATED:20190817T172641Z
LAST-MODIFIED:20190817T172641Z
UID:3077-1565618400-1565625600@www.lazybsranch.org
SUMMARY:Stem On The Farm
DESCRIPTION:
URL:https://www.lazybsranch.org/event/stem-on-the-farm-6/
END:VEVENT
BEGIN:VEVENT
DTSTART;TZID=UTC:20190812T110000
DTEND;TZID=UTC:20190812T130000
DTSTAMP:20260424T130915
CREATED:20190817T172126Z
LAST-MODIFIED:20190817T172126Z
UID:3069-1565607600-1565614800@www.lazybsranch.org
SUMMARY:Natures Adventure
DESCRIPTION:
URL:https://www.lazybsranch.org/event/natures-adventure-7/
END:VEVENT
BEGIN:VEVENT
DTSTART;TZID=UTC:20190812T110000
DTEND;TZID=UTC:20190812T130000
DTSTAMP:20260424T130915
CREATED:20190817T172031Z
LAST-MODIFIED:20190817T172031Z
UID:3067-1565607600-1565614800@www.lazybsranch.org
SUMMARY:Natures Adventure
DESCRIPTION:
URL:https://www.lazybsranch.org/event/natures-adventure-6/
END:VEVENT
BEGIN:VEVENT
DTSTART;TZID=UTC:20190809T170000
DTEND;TZID=UTC:20190809T200000
DTSTAMP:20260424T130915
CREATED:20190817T173017Z
LAST-MODIFIED:20190817T173017Z
UID:3087-1565370000-1565380800@www.lazybsranch.org
SUMMARY:Believe In Me: Session 3
DESCRIPTION:
URL:https://www.lazybsranch.org/event/believe-in-me-session-3-2/
END:VEVENT
BEGIN:VEVENT
DTSTART;TZID=UTC:20190808T170000
DTEND;TZID=UTC:20190808T200000
DTSTAMP:20260424T130915
CREATED:20190817T172948Z
LAST-MODIFIED:20190817T172948Z
UID:3085-1565283600-1565294400@www.lazybsranch.org
SUMMARY:Believe In Me: Session 3
DESCRIPTION:
URL:https://www.lazybsranch.org/event/believe-in-me-session-3/
END:VEVENT
BEGIN:VEVENT
DTSTART;TZID=UTC:20190805T140000
DTEND;TZID=UTC:20190805T160000
DTSTAMP:20260424T130915
CREATED:20190817T172607Z
LAST-MODIFIED:20190817T172607Z
UID:3075-1565013600-1565020800@www.lazybsranch.org
SUMMARY:Stem On The Farm
DESCRIPTION:
URL:https://www.lazybsranch.org/event/stem-on-the-farm-5/
END:VEVENT
BEGIN:VEVENT
DTSTART;TZID=UTC:20190805T110000
DTEND;TZID=UTC:20190805T130000
DTSTAMP:20260424T130915
CREATED:20190817T171932Z
LAST-MODIFIED:20190817T171932Z
UID:3065-1565002800-1565010000@www.lazybsranch.org
SUMMARY:Natures Adventure
DESCRIPTION:
URL:https://www.lazybsranch.org/event/natures-adventure-5/
END:VEVENT
BEGIN:VEVENT
DTSTART;TZID=UTC:20190803T100000
DTEND;TZID=UTC:20190803T130000
DTSTAMP:20260424T130915
CREATED:20190707T143151Z
LAST-MODIFIED:20190707T143151Z
UID:2934-1564826400-1564837200@www.lazybsranch.org
SUMMARY:Day Camp!
DESCRIPTION:
URL:https://www.lazybsranch.org/event/day-camp-4/
LOCATION:Lazy B’s Ranch\, 3500 Reed Rd\, Jackson\, United States
END:VEVENT
BEGIN:VEVENT
DTSTART;TZID=UTC:20190729T140000
DTEND;TZID=UTC:20190729T160000
DTSTAMP:20260424T130915
CREATED:20190707T152508Z
LAST-MODIFIED:20190707T152508Z
UID:2964-1564408800-1564416000@www.lazybsranch.org
SUMMARY:STEM on the Farm
DESCRIPTION:
URL:https://www.lazybsranch.org/event/stem-on-the-farm-4/
END:VEVENT
BEGIN:VEVENT
DTSTART;TZID=UTC:20190729T110000
DTEND;TZID=UTC:20190729T130000
DTSTAMP:20260424T130915
CREATED:20190707T152245Z
LAST-MODIFIED:20190707T152245Z
UID:2956-1564398000-1564405200@www.lazybsranch.org
SUMMARY:Nature's Adventure
DESCRIPTION:
URL:https://www.lazybsranch.org/event/natures-adventure-4/
END:VEVENT
BEGIN:VEVENT
DTSTART;TZID=UTC:20190727T100000
DTEND;TZID=UTC:20190727T130000
DTSTAMP:20260424T130915
CREATED:20190707T143055Z
LAST-MODIFIED:20190707T143055Z
UID:2932-1564221600-1564232400@www.lazybsranch.org
SUMMARY:Day Camp!
DESCRIPTION:
URL:https://www.lazybsranch.org/event/day-camp-3/
LOCATION:Lazy B’s Ranch\, 3500 Reed Rd\, Jackson\, United States
END:VEVENT
BEGIN:VEVENT
DTSTART;TZID=UTC:20190726T170000
DTEND;TZID=UTC:20190726T200000
DTSTAMP:20260424T130915
CREATED:20190707T143756Z
LAST-MODIFIED:20190707T143756Z
UID:2948-1564160400-1564171200@www.lazybsranch.org
SUMMARY:Believe In Me: Session 2
DESCRIPTION:
URL:https://www.lazybsranch.org/event/believe-in-me-session-2-7/
END:VEVENT
BEGIN:VEVENT
DTSTART;TZID=UTC:20190725T170000
DTEND;TZID=UTC:20190725T200000
DTSTAMP:20260424T130915
CREATED:20190707T143628Z
LAST-MODIFIED:20190707T143628Z
UID:2944-1564074000-1564084800@www.lazybsranch.org
SUMMARY:Believe In Me: Session 2
DESCRIPTION:
URL:https://www.lazybsranch.org/event/believe-in-me-session-2-5/
END:VEVENT
BEGIN:VEVENT
DTSTART;TZID=UTC:20190722T140000
DTEND;TZID=UTC:20190722T160000
DTSTAMP:20260424T130915
CREATED:20190707T152435Z
LAST-MODIFIED:20190707T152435Z
UID:2962-1563804000-1563811200@www.lazybsranch.org
SUMMARY:STEM on the Farm
DESCRIPTION:
URL:https://www.lazybsranch.org/event/stem-on-the-farm-3/
END:VEVENT
BEGIN:VEVENT
DTSTART;TZID=UTC:20190722T110000
DTEND;TZID=UTC:20190722T130000
DTSTAMP:20260424T130915
CREATED:20190707T152205Z
LAST-MODIFIED:20190707T152205Z
UID:2954-1563793200-1563800400@www.lazybsranch.org
SUMMARY:Nature's Adventure
DESCRIPTION:
URL:https://www.lazybsranch.org/event/natures-adventure-3/
END:VEVENT
BEGIN:VEVENT
DTSTART;TZID=UTC:20190720T100000
DTEND;TZID=UTC:20190720T130000
DTSTAMP:20260424T130915
CREATED:20190707T142954Z
LAST-MODIFIED:20190707T142954Z
UID:2930-1563616800-1563627600@www.lazybsranch.org
SUMMARY:Day Camp!
DESCRIPTION:
URL:https://www.lazybsranch.org/event/day-camp-2/
END:VEVENT
BEGIN:VEVENT
DTSTART;TZID=UTC:20190719T170000
DTEND;TZID=UTC:20190719T200000
DTSTAMP:20260424T130915
CREATED:20190707T143722Z
LAST-MODIFIED:20190707T143722Z
UID:2946-1563555600-1563566400@www.lazybsranch.org
SUMMARY:Believe In Me: Session 2
DESCRIPTION:
URL:https://www.lazybsranch.org/event/believe-in-me-session-2-6/
END:VEVENT
BEGIN:VEVENT
DTSTART;TZID=UTC:20190718T170000
DTEND;TZID=UTC:20190718T200000
DTSTAMP:20260424T130915
CREATED:20190707T143549Z
LAST-MODIFIED:20190707T143549Z
UID:2942-1563469200-1563480000@www.lazybsranch.org
SUMMARY:Believe In Me: Session 2
DESCRIPTION:
URL:https://www.lazybsranch.org/event/believe-in-me-session-2-4/
END:VEVENT
BEGIN:VEVENT
DTSTART;TZID=UTC:20190715T140000
DTEND;TZID=UTC:20190715T160000
DTSTAMP:20260424T130915
CREATED:20190707T152404Z
LAST-MODIFIED:20190707T152404Z
UID:2960-1563199200-1563206400@www.lazybsranch.org
SUMMARY:STEM on the Farm
DESCRIPTION:
URL:https://www.lazybsranch.org/event/stem-on-the-farm-2/
END:VEVENT
BEGIN:VEVENT
DTSTART;TZID=UTC:20190715T110000
DTEND;TZID=UTC:20190715T130000
DTSTAMP:20260424T130915
CREATED:20190707T152131Z
LAST-MODIFIED:20190707T152131Z
UID:2952-1563188400-1563195600@www.lazybsranch.org
SUMMARY:Nature's Adventure
DESCRIPTION:
URL:https://www.lazybsranch.org/event/natures-adventure-2/
END:VEVENT
BEGIN:VEVENT
DTSTART;TZID=UTC:20190713T130000
DTEND;TZID=UTC:20190713T150000
DTSTAMP:20260424T130915
CREATED:20190606T231357Z
LAST-MODIFIED:20190606T231357Z
UID:2852-1563022800-1563030000@www.lazybsranch.org
SUMMARY:July Board Meeting
DESCRIPTION:
URL:https://www.lazybsranch.org/event/july-board-meeting/
LOCATION:Lazy B’s Ranch\, 4990 White Road\, Cement City\, MI\, 49233\, United States
END:VEVENT
BEGIN:VEVENT
DTSTART;TZID=UTC:20190713T100000
DTEND;TZID=UTC:20190713T130000
DTSTAMP:20260424T130915
CREATED:20190707T142908Z
LAST-MODIFIED:20190707T142908Z
UID:2928-1563012000-1563022800@www.lazybsranch.org
SUMMARY:Day Camp!
DESCRIPTION:
URL:https://www.lazybsranch.org/event/day-camp/
END:VEVENT
BEGIN:VEVENT
DTSTART;TZID=UTC:20190712T170000
DTEND;TZID=UTC:20190712T200000
DTSTAMP:20260424T130915
CREATED:20190707T143509Z
LAST-MODIFIED:20190707T143509Z
UID:2940-1562950800-1562961600@www.lazybsranch.org
SUMMARY:Believe In Me: Session 2
DESCRIPTION:
URL:https://www.lazybsranch.org/event/believe-in-me-session-2-3/
END:VEVENT
BEGIN:VEVENT
DTSTART;TZID=UTC:20190711T170000
DTEND;TZID=UTC:20190711T200000
DTSTAMP:20260424T130915
CREATED:20190707T143434Z
LAST-MODIFIED:20190707T143434Z
UID:2938-1562864400-1562875200@www.lazybsranch.org
SUMMARY:Believe In Me: Session 2
DESCRIPTION:
URL:https://www.lazybsranch.org/event/believe-in-me-session-2-2/
END:VEVENT
BEGIN:VEVENT
DTSTART;TZID=UTC:20190708T140000
DTEND;TZID=UTC:20190708T160000
DTSTAMP:20260424T130915
CREATED:20190707T152327Z
LAST-MODIFIED:20190707T152327Z
UID:2958-1562594400-1562601600@www.lazybsranch.org
SUMMARY:STEM on the Farm
DESCRIPTION:
URL:https://www.lazybsranch.org/event/stem-on-the-farm/
END:VEVENT
BEGIN:VEVENT
DTSTART;TZID=UTC:20190708T110000
DTEND;TZID=UTC:20190708T130000
DTSTAMP:20260424T130915
CREATED:20190707T152056Z
LAST-MODIFIED:20190707T152056Z
UID:2950-1562583600-1562590800@www.lazybsranch.org
SUMMARY:Nature's Adventure
DESCRIPTION:
URL:https://www.lazybsranch.org/event/natures-adventure/
END:VEVENT
BEGIN:VEVENT
DTSTART;VALUE=DATE:20190704
DTEND;VALUE=DATE:20190705
DTSTAMP:20260424T130915
CREATED:20190707T152709Z
LAST-MODIFIED:20190707T152709Z
UID:2966-1562198400-1562284799@www.lazybsranch.org
SUMMARY:Happy Independence Day!!
DESCRIPTION:
URL:https://www.lazybsranch.org/event/happy-independence-day/
END:VEVENT
END:VCALENDAR